BEGIN:VCALENDAR
VERSION:2.0
PRODID:-//Colegio de psiquiatrias de Jalisco AC - ECPv6.15.17.1//NONSGML v1.0//EN
CALSCALE:GREGORIAN
METHOD:PUBLISH
X-ORIGINAL-URL:https://colegiopsiqjal.com.mx
X-WR-CALDESC:Eventos para Colegio de psiquiatrias de Jalisco AC
REFRESH-INTERVAL;VALUE=DURATION:PT1H
X-Robots-Tag:noindex
X-PUBLISHED-TTL:PT1H
BEGIN:VTIMEZONE
TZID:America/Mexico_City
BEGIN:STANDARD
TZOFFSETFROM:-0600
TZOFFSETTO:-0600
TZNAME:CST
DTSTART:20240101T000000
END:STANDARD
END:VTIMEZONE
BEGIN:VEVENT
DTSTART;VALUE=DATE:20251011
DTEND;VALUE=DATE:20251012
DTSTAMP:20260421T132742
CREATED:20250901T051120Z
LAST-MODIFIED:20260310T021401Z
UID:3425-1760140800-1760227199@colegiopsiqjal.com.mx
SUMMARY:1ª Carrera por la Salud Mental del Colegio de Psiquiatras de Jalisco A.C.
DESCRIPTION:Los invitamos a la Primera Carrera del Colegio de Psiquiatras de Jalisco «Por la Salud Mental de los Jaliscienses » el 11 de Octubre 2025 a las 7am en el Bosque de los Colomos. En Conmemoración al Dia de la Salud Mental.\n\n\n			\n				\n			\n		\n\n\n 
URL:https://colegiopsiqjal.com.mx/eventos/1a-carrera-por-la-salud-mental-del-colegio-de-psiquiatras-de-jalisco-a-c/
LOCATION:Bosque Los Colomos
CATEGORIES:Carreras
ATTACH;FMTTYPE=image/jpeg:https://colegiopsiqjal.com.mx/wp-content/uploads/2025/08/evento_carrera.jpeg
END:VEVENT
END:VCALENDAR